BEGIN:VCALENDAR
VERSION:2.0
PRODID:-//Northern California Dental Society - ECPv6.15.20//NONSGML v1.0//EN
CALSCALE:GREGORIAN
METHOD:PUBLISH
X-WR-CALNAME:Northern California Dental Society
X-ORIGINAL-URL:https://ncdsonline.org
X-WR-CALDESC:Events for Northern California Dental Society
REFRESH-INTERVAL;VALUE=DURATION:PT1H
X-Robots-Tag:noindex
X-PUBLISHED-TTL:PT1H
BEGIN:VTIMEZONE
TZID:America/Los_Angeles
BEGIN:DAYLIGHT
TZOFFSETFROM:-0800
TZOFFSETTO:-0700
TZNAME:PDT
DTSTART:20250309T100000
END:DAYLIGHT
BEGIN:STANDARD
TZOFFSETFROM:-0700
TZOFFSETTO:-0800
TZNAME:PST
DTSTART:20251102T090000
END:STANDARD
BEGIN:DAYLIGHT
TZOFFSETFROM:-0800
TZOFFSETTO:-0700
TZNAME:PDT
DTSTART:20260308T100000
END:DAYLIGHT
BEGIN:STANDARD
TZOFFSETFROM:-0700
TZOFFSETTO:-0800
TZNAME:PST
DTSTART:20261101T090000
END:STANDARD
BEGIN:DAYLIGHT
TZOFFSETFROM:-0800
TZOFFSETTO:-0700
TZNAME:PDT
DTSTART:20270314T100000
END:DAYLIGHT
BEGIN:STANDARD
TZOFFSETFROM:-0700
TZOFFSETTO:-0800
TZNAME:PST
DTSTART:20271107T090000
END:STANDARD
END:VTIMEZONE
BEGIN:VEVENT
DTSTART;TZID=America/Los_Angeles:20260424T090000
DTEND;TZID=America/Los_Angeles:20260424T153000
DTSTAMP:20260423T054202
CREATED:20260113T185109Z
LAST-MODIFIED:20260113T185109Z
UID:6275-1777021200-1777044600@ncdsonline.org
SUMMARY:Leslie Canham - OSHA\, Infection Control & CDPA - Required Course (Live Virtual Course 6 CEU)
DESCRIPTION:OSHA/Blood-Borne Pathogen Standards – 2-Hour Program\nQualifies for C.E. Credit – Core Course\nTopics covered will include:• Cal-DOSH BBP Standard\n• DHS Medical Waste Management\n• CDC/ADA Recommendations\nInfection Control – Mandatory course for license renewal – 2-Hour Program\nQualifies for C.E. Credit – Core Course\nTopics covered will include:\n• Dental Board IC Regulations (DPA Section 1005)\nCalifornia Dental Practice Act — CDPA California Dental Practice Act\nMandatory course for license renewal – 2-Hour Program\nQualifies for C.E. Credit – Core Course • Meets state requirements for California Dental Practice Act C.E.\nTopics covered will include:\n• Highlights and Updates of the Dental Practice Act\n• Scope of Practice for Dentists and Allied Dental Health Personnel\n• License Renewal Requirements\, Continuing Education\, Laws Governing Citations & Fines\n• Laws Pertaining to Prescriptions\n• Dental Record Keeping\n• Acts in Violation of the Dental Practice Act\, Including Unprofessional Conduct \nPurchase Ticket Here
URL:https://ncdsonline.org/event/leslie-canham-osha-infection-control-cdpa-required-course-live-virtual-course-6-ceu-2/
LOCATION:ZOOM Webinar
ATTACH;FMTTYPE=image/jpeg:https://ncdsonline.org/wp-content/uploads/2024/10/osha-photo.jpg
ORGANIZER;CN="Northern California Dental Society":MAILTO:ncdsociety@outlook.com
END:VEVENT
END:VCALENDAR